BEGIN:VCALENDAR
VERSION:2.0
PRODID:-//MENDEL LEE - ECPv6.15.17.1//NONSGML v1.0//EN
CALSCALE:GREGORIAN
METHOD:PUBLISH
X-ORIGINAL-URL:https://mendellee.com
X-WR-CALDESC:Events for MENDEL LEE
REFRESH-INTERVAL;VALUE=DURATION:PT1H
X-Robots-Tag:noindex
X-PUBLISHED-TTL:PT1H
BEGIN:VTIMEZONE
TZID:America/Chicago
BEGIN:DAYLIGHT
TZOFFSETFROM:-0600
TZOFFSETTO:-0500
TZNAME:CDT
DTSTART:20100314T080000
END:DAYLIGHT
BEGIN:STANDARD
TZOFFSETFROM:-0500
TZOFFSETTO:-0600
TZNAME:CST
DTSTART:20101107T070000
END:STANDARD
BEGIN:DAYLIGHT
TZOFFSETFROM:-0600
TZOFFSETTO:-0500
TZNAME:CDT
DTSTART:20110313T080000
END:DAYLIGHT
BEGIN:STANDARD
TZOFFSETFROM:-0500
TZOFFSETTO:-0600
TZNAME:CST
DTSTART:20111106T070000
END:STANDARD
BEGIN:DAYLIGHT
TZOFFSETFROM:-0600
TZOFFSETTO:-0500
TZNAME:CDT
DTSTART:20120311T080000
END:DAYLIGHT
BEGIN:STANDARD
TZOFFSETFROM:-0500
TZOFFSETTO:-0600
TZNAME:CST
DTSTART:20121104T070000
END:STANDARD
BEGIN:DAYLIGHT
TZOFFSETFROM:-0600
TZOFFSETTO:-0500
TZNAME:CDT
DTSTART:20130310T080000
END:DAYLIGHT
BEGIN:STANDARD
TZOFFSETFROM:-0500
TZOFFSETTO:-0600
TZNAME:CST
DTSTART:20131103T070000
END:STANDARD
BEGIN:DAYLIGHT
TZOFFSETFROM:-0600
TZOFFSETTO:-0500
TZNAME:CDT
DTSTART:20140309T080000
END:DAYLIGHT
BEGIN:STANDARD
TZOFFSETFROM:-0500
TZOFFSETTO:-0600
TZNAME:CST
DTSTART:20141102T070000
END:STANDARD
BEGIN:DAYLIGHT
TZOFFSETFROM:-0600
TZOFFSETTO:-0500
TZNAME:CDT
DTSTART:20150308T080000
END:DAYLIGHT
BEGIN:STANDARD
TZOFFSETFROM:-0500
TZOFFSETTO:-0600
TZNAME:CST
DTSTART:20151101T070000
END:STANDARD
BEGIN:DAYLIGHT
TZOFFSETFROM:-0600
TZOFFSETTO:-0500
TZNAME:CDT
DTSTART:20160313T080000
END:DAYLIGHT
BEGIN:STANDARD
TZOFFSETFROM:-0500
TZOFFSETTO:-0600
TZNAME:CST
DTSTART:20161106T070000
END:STANDARD
BEGIN:DAYLIGHT
TZOFFSETFROM:-0600
TZOFFSETTO:-0500
TZNAME:CDT
DTSTART:20170312T080000
END:DAYLIGHT
BEGIN:STANDARD
TZOFFSETFROM:-0500
TZOFFSETTO:-0600
TZNAME:CST
DTSTART:20171105T070000
END:STANDARD
BEGIN:DAYLIGHT
TZOFFSETFROM:-0600
TZOFFSETTO:-0500
TZNAME:CDT
DTSTART:20180311T080000
END:DAYLIGHT
BEGIN:STANDARD
TZOFFSETFROM:-0500
TZOFFSETTO:-0600
TZNAME:CST
DTSTART:20181104T070000
END:STANDARD
BEGIN:DAYLIGHT
TZOFFSETFROM:-0600
TZOFFSETTO:-0500
TZNAME:CDT
DTSTART:20190310T080000
END:DAYLIGHT
BEGIN:STANDARD
TZOFFSETFROM:-0500
TZOFFSETTO:-0600
TZNAME:CST
DTSTART:20191103T070000
END:STANDARD
BEGIN:DAYLIGHT
TZOFFSETFROM:-0600
TZOFFSETTO:-0500
TZNAME:CDT
DTSTART:20200308T080000
END:DAYLIGHT
BEGIN:STANDARD
TZOFFSETFROM:-0500
TZOFFSETTO:-0600
TZNAME:CST
DTSTART:20201101T070000
END:STANDARD
BEGIN:DAYLIGHT
TZOFFSETFROM:-0600
TZOFFSETTO:-0500
TZNAME:CDT
DTSTART:20210314T080000
END:DAYLIGHT
BEGIN:STANDARD
TZOFFSETFROM:-0500
TZOFFSETTO:-0600
TZNAME:CST
DTSTART:20211107T070000
END:STANDARD
BEGIN:DAYLIGHT
TZOFFSETFROM:-0600
TZOFFSETTO:-0500
TZNAME:CDT
DTSTART:20220313T080000
END:DAYLIGHT
BEGIN:STANDARD
TZOFFSETFROM:-0500
TZOFFSETTO:-0600
TZNAME:CST
DTSTART:20221106T070000
END:STANDARD
END:VTIMEZONE
BEGIN:VEVENT
DTSTART;TZID=America/Chicago:20211107T190000
DTEND;TZID=America/Chicago:20211107T190000
DTSTAMP:20260425T160201
CREATED:20240718T141644Z
LAST-MODIFIED:20240718T141644Z
UID:4881-1636311600-1636311600@mendellee.com
SUMMARY:Versipel New Music: In Sound
DESCRIPTION:Performer of James Tenney’s Form 1 and 3
URL:https://mendellee.com/event/versipel-new-music-in-sound/
CATEGORIES:Performances
ATTACH;FMTTYPE=image/jpeg:https://mendellee.com/mendelblog/wp-content/uploads/2021/11/matanuska_glacier_mouth.jpeg
END:VEVENT
BEGIN:VEVENT
DTSTART;TZID=America/Chicago:20210512T190000
DTEND;TZID=America/Chicago:20210512T200000
DTSTAMP:20260425T160201
CREATED:20210521T150121Z
LAST-MODIFIED:20240718T143630Z
UID:4318-1620846000-1620849600@mendellee.com
SUMMARY:Heartland Marimba's Composer Conversation Series Ep. 5
DESCRIPTION:I’m going to be a featured composer for Heartland Marimba’s Composer Conversation Series! Come hear me talk about my music and my work with nienteForte Contemporary Music.
URL:https://mendellee.com/event/composer-conversation-series-ep-5/
CATEGORIES:Guest Speaker/Clinics
ATTACH;FMTTYPE=image/jpeg:https://mendellee.com/mendelblog/wp-content/uploads/2021/05/175764455_3829582107138064_5670538010670314354_n.jpg
END:VEVENT
BEGIN:VEVENT
DTSTART;TZID=America/Chicago:20200206T190000
DTEND;TZID=America/Chicago:20200206T203000
DTSTAMP:20260425T160201
CREATED:20240718T142302Z
LAST-MODIFIED:20240718T142302Z
UID:4912-1581015600-1581021000@mendellee.com
SUMMARY:nF presents the Portland Percussion Group
DESCRIPTION:The Spaces BetweenÂ commissioned and world-premiered by the Portland Percussion Group for nienteForte Contemporary Music
URL:https://mendellee.com/event/nf-presents-the-portland-percussion-group/
CATEGORIES:Composition,nienteForte
END:VEVENT
BEGIN:VEVENT
DTSTART;TZID=America/Chicago:20190512T190000
DTEND;TZID=America/Chicago:20190512T203000
DTSTAMP:20260425T160201
CREATED:20240718T141844Z
LAST-MODIFIED:20240718T141844Z
UID:4896-1557687600-1557693000@mendellee.com
SUMMARY:Versipel New Music: Story and Motion
DESCRIPTION:Narrator of Tom Johnson’sÂ Bedtime StoriesPerformer of John Cage’sÂ Variations IIIÂ andÂ Variations IV
URL:https://mendellee.com/event/versipel-new-music-story-and-motion/
CATEGORIES:Performances
ATTACH;FMTTYPE=image/jpeg:https://mendellee.com/mendelblog/wp-content/uploads/2020/06/MOH-3.jpg
END:VEVENT
BEGIN:VEVENT
DTSTART;TZID=America/Chicago:20190405T190000
DTEND;TZID=America/Chicago:20190405T200000
DTSTAMP:20260425T160201
CREATED:20240718T142302Z
LAST-MODIFIED:20240718T142302Z
UID:4911-1554490800-1554494400@mendellee.com
SUMMARY:nF presents Andy Kozar
DESCRIPTION:Minkowski Etudes performed by Andy Kozar for nienteForte Contemporary Music
URL:https://mendellee.com/event/nf-presents-andy-kozar/
CATEGORIES:Composition,nienteForte
END:VEVENT
BEGIN:VEVENT
DTSTART;TZID=America/Chicago:20190329T190000
DTEND;TZID=America/Chicago:20190329T203000
DTSTAMP:20260425T160201
CREATED:20240718T141649Z
LAST-MODIFIED:20240718T141649Z
UID:4888-1553886000-1553891400@mendellee.com
SUMMARY:Stephen Montalvo
DESCRIPTION:Percussionist of Stephen Montalvo’sÂ Nighttide from the Shore
URL:https://mendellee.com/event/stephen-montalvo/
CATEGORIES:Performances
END:VEVENT
BEGIN:VEVENT
DTSTART;TZID=America/Chicago:20181202T190000
DTEND;TZID=America/Chicago:20181202T203000
DTSTAMP:20260425T160201
CREATED:20240718T141844Z
LAST-MODIFIED:20240718T141844Z
UID:4895-1543777200-1543782600@mendellee.com
SUMMARY:Versipel New Music: Winter Night
DESCRIPTION:Percussionist of Earle Browne’sÂ December 1952
URL:https://mendellee.com/event/versipel-new-music-winter-night/
CATEGORIES:Performances
END:VEVENT
BEGIN:VEVENT
DTSTART;TZID=America/Chicago:20180911T193000
DTEND;TZID=America/Chicago:20180911T210000
DTSTAMP:20260425T160201
CREATED:20240718T141844Z
LAST-MODIFIED:20240718T141844Z
UID:4894-1536694200-1536699600@mendellee.com
SUMMARY:Versipel New Music: Viva NOLA 300
DESCRIPTION:Percussionist of Maxwell Dulaney’sÂ A Subtle MorphologyPercussionist of Jeff Albert’sÂ Concrete Uncertainties
URL:https://mendellee.com/event/versipel-new-music-viva-nola-300/
CATEGORIES:Performances
END:VEVENT
BEGIN:VEVENT
DTSTART;TZID=America/Chicago:20180511T183000
DTEND;TZID=America/Chicago:20180511T193000
DTSTAMP:20260425T160201
CREATED:20240718T142302Z
LAST-MODIFIED:20240718T142302Z
UID:4910-1526063400-1526067000@mendellee.com
SUMMARY:Southern Sonic Festival
DESCRIPTION:As Composer:Minkowski Etudes performed by Dylan Koester with Versipel New Music\nAs Performer:\nPercussionist of Kari Bersharse’sÂ Blooms
URL:https://mendellee.com/event/southern-sonic-festival/
CATEGORIES:Composition,Performances
END:VEVENT
BEGIN:VEVENT
DTSTART;TZID=America/Chicago:20180507T190000
DTEND;TZID=America/Chicago:20180507T200000
DTSTAMP:20260425T160201
CREATED:20240718T142302Z
LAST-MODIFIED:20240718T142302Z
UID:4909-1525719600-1525723200@mendellee.com
SUMMARY:Senior Recital: Dylan Koester
DESCRIPTION:Minkowski Etudes performed by Dylan Koester
URL:https://mendellee.com/event/senior-recital-dylan-koester/
CATEGORIES:Composition
END:VEVENT
BEGIN:VEVENT
DTSTART;TZID=America/Chicago:20180407T110000
DTEND;TZID=America/Chicago:20180407T120000
DTSTAMP:20260425T160201
CREATED:20240718T142101Z
LAST-MODIFIED:20240718T142101Z
UID:4908-1523098800-1523102400@mendellee.com
SUMMARY:KKY Rhocital
DESCRIPTION:Minkowski Etudes commissioned and world-premiered by Dylan Koester
URL:https://mendellee.com/event/kky-rhocital-2/
CATEGORIES:Composition
END:VEVENT
BEGIN:VEVENT
DTSTART;TZID=America/Chicago:20180314T190000
DTEND;TZID=America/Chicago:20180314T200000
DTSTAMP:20260425T160201
CREATED:20240718T142101Z
LAST-MODIFIED:20240718T142101Z
UID:4907-1521054000-1521057600@mendellee.com
SUMMARY:Versipel New Music Concert
DESCRIPTION:Habits of Man performed for Versipel New Music
URL:https://mendellee.com/event/versipel-new-music-concert-2/
CATEGORIES:Composition
END:VEVENT
BEGIN:VEVENT
DTSTART;TZID=America/Chicago:20171018T190000
DTEND;TZID=America/Chicago:20171018T203000
DTSTAMP:20260425T160201
CREATED:20240718T141648Z
LAST-MODIFIED:20240718T141648Z
UID:4885-1508353200-1508358600@mendellee.com
SUMMARY:New Kids on the Block Cruise Party
DESCRIPTION:Snare Drummer for the Green Wave Brass Band opening act
URL:https://mendellee.com/event/new-kids-on-the-block-cruise-party-2/
CATEGORIES:Performances
END:VEVENT
BEGIN:VEVENT
DTSTART;TZID=America/Chicago:20170409T230000
DTEND;TZID=America/Chicago:20170409T230000
DTSTAMP:20260425T160201
CREATED:20240718T142100Z
LAST-MODIFIED:20240718T142100Z
UID:4906-1491778800-1491778800@mendellee.com
SUMMARY:KKY Rhocital
DESCRIPTION:Habits of Man performed for KKY’s Rhocital
URL:https://mendellee.com/event/kky-rhocital/
CATEGORIES:Composition
END:VEVENT
BEGIN:VEVENT
DTSTART;TZID=America/Chicago:20170408T140000
DTEND;TZID=America/Chicago:20170408T150000
DTSTAMP:20260425T160201
CREATED:20240718T141706Z
LAST-MODIFIED:20240718T141706Z
UID:4893-1491660000-1491663600@mendellee.com
SUMMARY:French Quarter Festival
DESCRIPTION:Percussionist of Terry Riley’sÂ In CPercussionist of Oscar BÃ¡zan’sÂ Los Mitos
URL:https://mendellee.com/event/french-quarter-festival/
CATEGORIES:Performances
END:VEVENT
BEGIN:VEVENT
DTSTART;TZID=America/Chicago:20170405T190000
DTEND;TZID=America/Chicago:20170405T203000
DTSTAMP:20260425T160201
CREATED:20240718T141706Z
LAST-MODIFIED:20240718T141706Z
UID:4892-1491418800-1491424200@mendellee.com
SUMMARY:nF presents: Versipel New Music
DESCRIPTION:Percussionist of Terry Riley’sÂ In CÂ for nienteForte Contemporary Music
URL:https://mendellee.com/event/nf-presents-versipel-new-music/
CATEGORIES:nienteForte,Performances
END:VEVENT
BEGIN:VEVENT
DTSTART;TZID=America/Chicago:20161019T190000
DTEND;TZID=America/Chicago:20161019T203000
DTSTAMP:20260425T160201
CREATED:20240718T141645Z
LAST-MODIFIED:20240718T141645Z
UID:4882-1476903600-1476909000@mendellee.com
SUMMARY:New Kids on the Block Cruise Party
DESCRIPTION:Snare Drummer for the Green Wave Brass Band opening act
URL:https://mendellee.com/event/new-kids-on-the-block-cruise-party/
CATEGORIES:Performances
END:VEVENT
BEGIN:VEVENT
DTSTART;TZID=America/Chicago:20160626T170000
DTEND;TZID=America/Chicago:20160626T183000
DTSTAMP:20260425T160201
CREATED:20240718T141705Z
LAST-MODIFIED:20240718T141705Z
UID:4890-1466960400-1466965800@mendellee.com
SUMMARY:Versipel Nw Music: New Music and 21st Century Classics
DESCRIPTION:Percussionist of Jason Treuting’sÂ Thank You\, (______)Percussionist of Jordan Noble’sÂ Surface Tension
URL:https://mendellee.com/event/versipel-nw-music-new-music-and-21st-century-classics/
CATEGORIES:Performances
END:VEVENT
BEGIN:VEVENT
DTSTART;TZID=America/Chicago:20160316T190000
DTEND;TZID=America/Chicago:20160316T203000
DTSTAMP:20260425T160201
CREATED:20240718T141648Z
LAST-MODIFIED:20240718T141648Z
UID:4887-1458154800-1458160200@mendellee.com
SUMMARY:nF presents: ECCE
DESCRIPTION:Pianist of John Luther Adams’sÂ The Light Within
URL:https://mendellee.com/event/nf-presents-ecce/
CATEGORIES:nienteForte,Performances
END:VEVENT
BEGIN:VEVENT
DTSTART;TZID=America/Chicago:20151014T200000
DTEND;TZID=America/Chicago:20151014T213000
DTSTAMP:20260425T160201
CREATED:20240718T141705Z
LAST-MODIFIED:20240718T141705Z
UID:4891-1444852800-1444858200@mendellee.com
SUMMARY:Versipel New Music: Worker’s Union
DESCRIPTION:Pianist of Louis Andriessen’sÂ Worker’s Union
URL:https://mendellee.com/event/versipel-new-music-workers-union/
CATEGORIES:Performances
END:VEVENT
BEGIN:VEVENT
DTSTART;TZID=America/Chicago:20150429T210000
DTEND;TZID=America/Chicago:20150429T223000
DTSTAMP:20260425T160201
CREATED:20240718T141705Z
LAST-MODIFIED:20240718T141705Z
UID:4889-1430341200-1430346600@mendellee.com
SUMMARY:Versipel New Music: on the EDGE
DESCRIPTION:Percussionist of Cat Hope’sÂ Longing
URL:https://mendellee.com/event/versipel-new-music-on-the-edge/
CATEGORIES:Performances
END:VEVENT
BEGIN:VEVENT
DTSTART;TZID=America/Chicago:20150325T190000
DTEND;TZID=America/Chicago:20150325T203000
DTSTAMP:20260425T160201
CREATED:20240718T141648Z
LAST-MODIFIED:20240718T141648Z
UID:4886-1427310000-1427315400@mendellee.com
SUMMARY:nF presents: Ensemble Pamplemousse
DESCRIPTION:Percussionist of Steve Reich’sÂ Music for Pieces of WoodGuest Conductor for Ensemble Pamplemousse
URL:https://mendellee.com/event/nf-presents-ensemble-pamplemousse/
CATEGORIES:nienteForte,Performances
END:VEVENT
BEGIN:VEVENT
DTSTART;TZID=America/Chicago:20150217T190000
DTEND;TZID=America/Chicago:20150217T203000
DTSTAMP:20260425T160201
CREATED:20240718T142100Z
LAST-MODIFIED:20240718T142100Z
UID:4905-1424199600-1424205000@mendellee.com
SUMMARY:PPG in Concert
DESCRIPTION:Moon of Eris performed by the Portland Percussion Group
URL:https://mendellee.com/event/ppg-in-concert-2/
CATEGORIES:Composition
END:VEVENT
BEGIN:VEVENT
DTSTART;TZID=America/Chicago:20141204T200000
DTEND;TZID=America/Chicago:20141204T213000
DTSTAMP:20260425T160201
CREATED:20240718T141900Z
LAST-MODIFIED:20240718T141900Z
UID:4903-1417723200-1417728600@mendellee.com
SUMMARY:Versipel New Music Concert
DESCRIPTION:The Other Path performed by Versipel New Music
URL:https://mendellee.com/event/versipel-new-music-concert/
CATEGORIES:Composition,Performances
END:VEVENT
BEGIN:VEVENT
DTSTART;TZID=America/Chicago:20141108T140000
DTEND;TZID=America/Chicago:20141108T153000
DTSTAMP:20260425T160201
CREATED:20240718T142100Z
LAST-MODIFIED:20240718T142100Z
UID:4904-1415455200-1415460600@mendellee.com
SUMMARY:PPG in Concert
DESCRIPTION:Moon of Eris commissioned and world premiered by the Portland Percussion Group
URL:https://mendellee.com/event/ppg-in-concert/
CATEGORIES:Composition
END:VEVENT
BEGIN:VEVENT
DTSTART;TZID=America/Chicago:20140324T190000
DTEND;TZID=America/Chicago:20140324T203000
DTSTAMP:20260425T160201
CREATED:20240718T141900Z
LAST-MODIFIED:20240718T141900Z
UID:4902-1395687600-1395693000@mendellee.com
SUMMARY:nF presents Liminal Space
DESCRIPTION:As Composer:Remnants of the Sunken Cathedral commissioned and performed by Liminal Space\nAs Performer:\nPercussionist ofÂ Steve Reich’sÂ Nagoya Marimbas
URL:https://mendellee.com/event/nf-presents-liminal-space/
CATEGORIES:Composition,nienteForte,Performances
END:VEVENT
BEGIN:VEVENT
DTSTART;TZID=America/Chicago:20130422T190000
DTEND;TZID=America/Chicago:20130422T203000
DTSTAMP:20260425T160201
CREATED:20240718T141859Z
LAST-MODIFIED:20240718T141859Z
UID:4901-1366657200-1366662600@mendellee.com
SUMMARY:nF presents the West Chester Reunion
DESCRIPTION:The Other Path performed for nienteForte Contemporary Music
URL:https://mendellee.com/event/nf-presents-the-west-chester-reunion/
CATEGORIES:Composition,nienteForte
END:VEVENT
BEGIN:VEVENT
DTSTART;TZID=America/Chicago:20130213T190000
DTEND;TZID=America/Chicago:20130213T203000
DTSTAMP:20260425T160201
CREATED:20240718T141859Z
LAST-MODIFIED:20240718T141859Z
UID:4900-1360782000-1360787400@mendellee.com
SUMMARY:Xavier University Symphonic Winds in concert
DESCRIPTION:beauty…beholder commissioned and world premiered by the Xavier University Symphonic Winds undr the direction of Matthew Westgate
URL:https://mendellee.com/event/xavier-university-symphonic-winds-in-concert/
CATEGORIES:Composition
END:VEVENT
BEGIN:VEVENT
DTSTART;TZID=America/Chicago:20120325T150000
DTEND;TZID=America/Chicago:20120325T163000
DTSTAMP:20260425T160201
CREATED:20240718T141859Z
LAST-MODIFIED:20240718T141859Z
UID:4899-1332687600-1332693000@mendellee.com
SUMMARY:The Concert Singers
DESCRIPTION:Honeysuckle Juice commissioned and world premiered by the Concert Singers in Los Angeles\, CA under the direction of Jenni Brandon
URL:https://mendellee.com/event/the-concert-singers/
CATEGORIES:Composition
END:VEVENT
BEGIN:VEVENT
DTSTART;TZID=America/Chicago:20110730T120000
DTEND;TZID=America/Chicago:20110730T133000
DTSTAMP:20260425T160201
CREATED:20240718T141846Z
LAST-MODIFIED:20240718T141846Z
UID:4898-1312027200-1312032600@mendellee.com
SUMMARY:Festival of Contemporary Music
DESCRIPTION:Timpani Forces performed by Christopher Whyte as part of the Festival of Contemporary Music
URL:https://mendellee.com/event/festival-of-contemporary-music/
CATEGORIES:Composition
END:VEVENT
END:VCALENDAR